BEGIN:VCALENDAR
VERSION:2.0
CALSCALE:GREGORIAN
BEGIN:VEVENT
URL:https://www.learndesk.us/class/5634061668188160/lesson/997f1bfd2c2175948ae56505e050b86f?ref=outlook-calendar
SUMMARY:The Model View Controller (MVC)
DTSTART;TZID=America/Los_Angeles:20260420T190000
DTEND;TZID=America/Los_Angeles:20260420T200000
LOCATION:https://www.learndesk.us/class/5634061668188160/lesson/997f1bfd2c2175948ae56505e050b86f?ref=outlook-calendar
DESCRIPTION: 
In this module, we dive into important aspect of data building which is MVC pattern, also follow a specific pattern for structuring our code.

Module Introduction
What is the MVC?
Adding Controllers
Finishing the Controllers
Adding a Product Model
Storing Data in Files via the Model
Fetching Data From Files via the Model
Refactoring the File Storage Code
Wrap Up



https://www.learndesk.us/class/5634061668188160/lesson/997f1bfd2c2175948ae56505e050b86f?ref=outlook-calendar
STATUS:CONFIRMED
SEQUENCE:3
BEGIN:VALARM
TRIGGER:-PT10M
DESCRIPTION:Class Reminder
ACTION:DISPLAY
END:VALARM
END:VEVENT
END:VCALENDAR