BEGIN:VCALENDAR
VERSION:2.0
CALSCALE:GREGORIAN
BEGIN:VEVENT
URL:https://www.learndesk.us/class/5634061668188160/lesson/78df43e37066c27ad0bb51bfa08e9c69?ref=outlook-calendar
SUMMARY:Why Should We Use Validation?
DTSTART;TZID=America/Los_Angeles:20260420T190000
DTEND;TZID=America/Los_Angeles:20260420T200000
LOCATION:https://www.learndesk.us/class/5634061668188160/lesson/78df43e37066c27ad0bb51bfa08e9c69?ref=outlook-calendar
DESCRIPTION: https://www.learndesk.us/class/5634061668188160/lesson/78df43e37066c27ad0bb51bfa08e9c69?ref=outlook-calendar
STATUS:CONFIRMED
SEQUENCE:3
BEGIN:VALARM
TRIGGER:-PT10M
DESCRIPTION:Class Reminder
ACTION:DISPLAY
END:VALARM
END:VEVENT
END:VCALENDAR