BEGIN:VCALENDAR
VERSION:2.0
CALSCALE:GREGORIAN
BEGIN:VEVENT
URL:https://www.learndesk.us/class/5634061668188160/lesson/71cf0bf5d9b16eb831845382bddc6c8f?ref=outlook-calendar
SUMMARY:Displaying the Cart Items
DTSTART;TZID=America/Los_Angeles:20260420T190000
DTEND;TZID=America/Los_Angeles:20260420T200000
LOCATION:https://www.learndesk.us/class/5634061668188160/lesson/71cf0bf5d9b16eb831845382bddc6c8f?ref=outlook-calendar
DESCRIPTION: https://www.learndesk.us/class/5634061668188160/lesson/71cf0bf5d9b16eb831845382bddc6c8f?ref=outlook-calendar
STATUS:CONFIRMED
SEQUENCE:3
BEGIN:VALARM
TRIGGER:-PT10M
DESCRIPTION:Class Reminder
ACTION:DISPLAY
END:VALARM
END:VEVENT
END:VCALENDAR