BEGIN:VCALENDAR
VERSION:2.0
CALSCALE:GREGORIAN
BEGIN:VEVENT
URL:https://www.learndesk.us/class/5634061668188160/lesson/5dedf9b1d276c330e15955c3208eb6b8?ref=outlook-calendar
SUMMARY:Improved Development Workflow and Debugging
DTSTART;TZID=America/Los_Angeles:20260420T190000
DTEND;TZID=America/Los_Angeles:20260420T200000
LOCATION:https://www.learndesk.us/class/5634061668188160/lesson/5dedf9b1d276c330e15955c3208eb6b8?ref=outlook-calendar
DESCRIPTION: 
In this section, learn to make development a bit easier and speed it up. Learn to debug our NodeJS apps and make use of better tools to understand as to how it is going on. Learn few tips and tricks to write NodeJS applications in an efficient manner.


https://www.learndesk.us/class/5634061668188160/lesson/5dedf9b1d276c330e15955c3208eb6b8?ref=outlook-calendar
STATUS:CONFIRMED
SEQUENCE:3
BEGIN:VALARM
TRIGGER:-PT10M
DESCRIPTION:Class Reminder
ACTION:DISPLAY
END:VALARM
END:VEVENT
END:VCALENDAR