BEGIN:VCALENDAR
VERSION:2.0
CALSCALE:GREGORIAN
BEGIN:VEVENT
URL:https://www.learndesk.us/class/5634061668188160/lesson/3b50c719a9174d9ffcb4a1f31222999a?ref=outlook-calendar
SUMMARY:Roundup
DTSTART;TZID=America/Los_Angeles:20260420T190000
DTEND;TZID=America/Los_Angeles:20260420T200000
LOCATION:https://www.learndesk.us/class/5634061668188160/lesson/3b50c719a9174d9ffcb4a1f31222999a?ref=outlook-calendar
DESCRIPTION: Here, the author ends the course with a review of above sections.

https://www.learndesk.us/class/5634061668188160/lesson/3b50c719a9174d9ffcb4a1f31222999a?ref=outlook-calendar
STATUS:CONFIRMED
SEQUENCE:3
BEGIN:VALARM
TRIGGER:-PT10M
DESCRIPTION:Class Reminder
ACTION:DISPLAY
END:VALARM
END:VEVENT
END:VCALENDAR