BEGIN:VCALENDAR
VERSION:2.0
CALSCALE:GREGORIAN
BEGIN:VEVENT
URL:https://www.learndesk.us/class/5634061668188160/lesson/31fd642712c9d4da38599be15645dfd8?ref=outlook-calendar
SUMMARY:Adding Authentication
DTSTART;TZID=America/Los_Angeles:20260420T190000
DTEND;TZID=America/Los_Angeles:20260420T200000
LOCATION:https://www.learndesk.us/class/5634061668188160/lesson/31fd642712c9d4da38599be15645dfd8?ref=outlook-calendar
DESCRIPTION: 
In this section, we learn to add authentication, encrypt passwords, and route protection.


https://www.learndesk.us/class/5634061668188160/lesson/31fd642712c9d4da38599be15645dfd8?ref=outlook-calendar
STATUS:CONFIRMED
SEQUENCE:3
BEGIN:VALARM
TRIGGER:-PT10M
DESCRIPTION:Class Reminder
ACTION:DISPLAY
END:VALARM
END:VEVENT
END:VCALENDAR