BEGIN:VCALENDAR
VERSION:2.0
CALSCALE:GREGORIAN
BEGIN:VEVENT
URL:https://www.learndesk.us/class/5634061668188160/lesson/1a40e7022118dc372d55623e7f686acf?ref=outlook-calendar
SUMMARY:Working with REST APIs - The Basics
DTSTART;TZID=America/Los_Angeles:20260420T190000
DTEND;TZID=America/Los_Angeles:20260420T200000
LOCATION:https://www.learndesk.us/class/5634061668188160/lesson/1a40e7022118dc372d55623e7f686acf?ref=outlook-calendar
DESCRIPTION: 
In this section, we learn about REST APIs, access data, understand Routing, create our REST API’s projects, send Post request.


https://www.learndesk.us/class/5634061668188160/lesson/1a40e7022118dc372d55623e7f686acf?ref=outlook-calendar
STATUS:CONFIRMED
SEQUENCE:3
BEGIN:VALARM
TRIGGER:-PT10M
DESCRIPTION:Class Reminder
ACTION:DISPLAY
END:VALARM
END:VEVENT
END:VCALENDAR