BEGIN:VCALENDAR
VERSION:2.0
CALSCALE:GREGORIAN
BEGIN:VEVENT
URL:https://www.learndesk.us/class/5634061668188160/lesson/1428d3b97df5cb8fac2a6e2838cdcfd6?ref=outlook-calendar
SUMMARY:Fetching a Single Product with the "where" Condition
DTSTART;TZID=America/Los_Angeles:20260422T190000
DTEND;TZID=America/Los_Angeles:20260422T200000
LOCATION:https://www.learndesk.us/class/5634061668188160/lesson/1428d3b97df5cb8fac2a6e2838cdcfd6?ref=outlook-calendar
DESCRIPTION: https://www.learndesk.us/class/5634061668188160/lesson/1428d3b97df5cb8fac2a6e2838cdcfd6?ref=outlook-calendar
STATUS:CONFIRMED
SEQUENCE:3
BEGIN:VALARM
TRIGGER:-PT10M
DESCRIPTION:Class Reminder
ACTION:DISPLAY
END:VALARM
END:VEVENT
END:VCALENDAR