BEGIN:VCALENDAR
VERSION:2.0
CALSCALE:GREGORIAN
BEGIN:VEVENT
URL:https://www.learndesk.us/class/5634061668188160/lesson/1058472aff9299d548dc29ec8ab0e1bb?ref=outlook-calendar
SUMMARY:Optional: Enhancing the App
DTSTART;TZID=America/Los_Angeles:20260420T190000
DTEND;TZID=America/Los_Angeles:20260420T200000
LOCATION:https://www.learndesk.us/class/5634061668188160/lesson/1058472aff9299d548dc29ec8ab0e1bb?ref=outlook-calendar
DESCRIPTION: 
In this section, we are going to work on the course project by practising what we have learned.


https://www.learndesk.us/class/5634061668188160/lesson/1058472aff9299d548dc29ec8ab0e1bb?ref=outlook-calendar
STATUS:CONFIRMED
SEQUENCE:3
BEGIN:VALARM
TRIGGER:-PT10M
DESCRIPTION:Class Reminder
ACTION:DISPLAY
END:VALARM
END:VEVENT
END:VCALENDAR