BEGIN:VCALENDAR
VERSION:2.0
CALSCALE:GREGORIAN
BEGIN:VEVENT
URL:https://www.learndesk.us/class/5634061668188160/lesson/0133adf2ebd9bad4951cace8301ccb2c?ref=outlook-calendar
SUMMARY:Testing Node.js Applications
DTSTART;TZID=America/Los_Angeles:20260420T190000
DTEND;TZID=America/Los_Angeles:20260420T200000
LOCATION:https://www.learndesk.us/class/5634061668188160/lesson/0133adf2ebd9bad4951cace8301ccb2c?ref=outlook-calendar
DESCRIPTION: 
In this section, we test our Node.JS applications on various platforms.


https://www.learndesk.us/class/5634061668188160/lesson/0133adf2ebd9bad4951cace8301ccb2c?ref=outlook-calendar
STATUS:CONFIRMED
SEQUENCE:3
BEGIN:VALARM
TRIGGER:-PT10M
DESCRIPTION:Class Reminder
ACTION:DISPLAY
END:VALARM
END:VEVENT
END:VCALENDAR