BEGIN:VCALENDAR
VERSION:2.0
CALSCALE:GREGORIAN
BEGIN:VEVENT
URL:https://www.learndesk.us/class/5597844155138048/lesson/bb524eb16911adf78be80b2e7bac01b4?ref=outlook-calendar
SUMMARY:Why DEI Matters
DTSTART;TZID=America/Los_Angeles:20260420T190000
DTEND;TZID=America/Los_Angeles:20260420T200000
LOCATION:https://www.learndesk.us/class/5597844155138048/lesson/bb524eb16911adf78be80b2e7bac01b4?ref=outlook-calendar
DESCRIPTION: https://www.learndesk.us/class/5597844155138048/lesson/bb524eb16911adf78be80b2e7bac01b4?ref=outlook-calendar
STATUS:CONFIRMED
SEQUENCE:3
BEGIN:VALARM
TRIGGER:-PT10M
DESCRIPTION:Class Reminder
ACTION:DISPLAY
END:VALARM
END:VEVENT
END:VCALENDAR