BEGIN:VCALENDAR
VERSION:2.0
CALSCALE:GREGORIAN
BEGIN:VEVENT
URL:https://www.learndesk.us/class/5597844155138048/improving-diversity-and-inclusion-dei-in-your-workplace?ref=outlook-calendar
SUMMARY:Improving Diversity and Inclusion (DEI) in Your Workplace
DTSTART;TZID=America/Los_Angeles:20260420T190000
DTEND;TZID=America/Los_Angeles:20260420T200000
LOCATION:https://www.learndesk.us/class/5597844155138048/improving-diversity-and-inclusion-dei-in-your-workplace?ref=outlook-calendar
DESCRIPTION: 
Diversity and Inclusion are more than policies, programs, and headcounts.
Did you know that employers who create equitable workspaces outpace their competitors? By respecting the unique needs, perspectives, and potential of all their team members, businesses earn trust and commitment from employees. This results in lower turnover, a more worldly outlook that generates new ideas and innovations, and more productivity overall.
What will you learn in this course?
This course is a primer in understanding diversity and inclusion. After taking this course, the learner will be able to:

Understand what diversity and inclusion are and how to measure them
Explain why DEI matters in the workplace and in one&rsquo;s personal life
Understand, describe, and mitigate unconscious bias
Recognize microaggressions and how to handle them
Become an ally in the workplace

Once you understand what diversity and inclusion are, you are on your way to implementing a plan for creating a more equitable...

https://www.learndesk.us/class/5597844155138048/improving-diversity-and-inclusion-dei-in-your-workplace?ref=outlook-calendar
STATUS:CONFIRMED
SEQUENCE:3
BEGIN:VALARM
TRIGGER:-PT10M
DESCRIPTION:Class Reminder
ACTION:DISPLAY
END:VALARM
END:VEVENT
END:VCALENDAR