BEGIN:VCALENDAR
VERSION:2.0
CALSCALE:GREGORIAN
BEGIN:VEVENT
URL:https://www.learndesk.us/class/5591919885287424/lesson/eb6610b3454847e9b30cd8d57c3e3ba6?ref=outlook-calendar
SUMMARY:Statistics Lecture 5
DTSTART;TZID=America/Los_Angeles:20260422T190000
DTEND;TZID=America/Los_Angeles:20260422T200000
LOCATION:https://www.learndesk.us/class/5591919885287424/lesson/eb6610b3454847e9b30cd8d57c3e3ba6?ref=outlook-calendar
DESCRIPTION: https://www.learndesk.us/class/5591919885287424/lesson/eb6610b3454847e9b30cd8d57c3e3ba6?ref=outlook-calendar
STATUS:CONFIRMED
SEQUENCE:3
BEGIN:VALARM
TRIGGER:-PT10M
DESCRIPTION:Class Reminder
ACTION:DISPLAY
END:VALARM
END:VEVENT
END:VCALENDAR