BEGIN:VCALENDAR
VERSION:2.0
CALSCALE:GREGORIAN
BEGIN:VEVENT
URL:https://www.learndesk.us/class/5591919885287424/introduction-to-statistics?ref=outlook-calendar
SUMMARY:Introduction to Statistics
DTSTART;TZID=America/Los_Angeles:20260422T190000
DTEND;TZID=America/Los_Angeles:20260422T200000
LOCATION:https://www.learndesk.us/class/5591919885287424/introduction-to-statistics?ref=outlook-calendar
DESCRIPTION: 
This is a course designed to take out the intimidation factor from Statistics. It is designed to show you how to, right away, use statistics for your own projects. Everything is explained clearly and simply, using interesting and informative graphics. The course also shows you the incredible usefulness and power of statistics. The course is a thorough introduction to Statistics, but without getting caught up in a swamp of formulas.


https://www.learndesk.us/class/5591919885287424/introduction-to-statistics?ref=outlook-calendar
STATUS:CONFIRMED
SEQUENCE:3
BEGIN:VALARM
TRIGGER:-PT10M
DESCRIPTION:Class Reminder
ACTION:DISPLAY
END:VALARM
END:VEVENT
END:VCALENDAR