BEGIN:VCALENDAR
VERSION:2.0
CALSCALE:GREGORIAN
BEGIN:VEVENT
URL:https://www.learndesk.us/class/5581737008562176/lesson/8cdd8606050e2a9dfb767daf5b8e5fae?ref=outlook-calendar
SUMMARY:How to Start an Access Review for Azure Ad Directory Roles in PIM
DTSTART;TZID=America/Los_Angeles:20260422T190000
DTEND;TZID=America/Los_Angeles:20260422T200000
LOCATION:https://www.learndesk.us/class/5581737008562176/lesson/8cdd8606050e2a9dfb767daf5b8e5fae?ref=outlook-calendar
DESCRIPTION: https://www.learndesk.us/class/5581737008562176/lesson/8cdd8606050e2a9dfb767daf5b8e5fae?ref=outlook-calendar
STATUS:CONFIRMED
SEQUENCE:3
BEGIN:VALARM
TRIGGER:-PT10M
DESCRIPTION:Class Reminder
ACTION:DISPLAY
END:VALARM
END:VEVENT
END:VCALENDAR