BEGIN:VCALENDAR
VERSION:2.0
CALSCALE:GREGORIAN
BEGIN:VEVENT
URL:https://www.learndesk.us/class/5581737008562176/lesson/70878a41689901253d9d67444d64ac4e?ref=outlook-calendar
SUMMARY:What is Private Endpoint and How to Create Private Endpoint in Azure
DTSTART;TZID=America/Los_Angeles:20260422T190000
DTEND;TZID=America/Los_Angeles:20260422T200000
LOCATION:https://www.learndesk.us/class/5581737008562176/lesson/70878a41689901253d9d67444d64ac4e?ref=outlook-calendar
DESCRIPTION: https://www.learndesk.us/class/5581737008562176/lesson/70878a41689901253d9d67444d64ac4e?ref=outlook-calendar
STATUS:CONFIRMED
SEQUENCE:3
BEGIN:VALARM
TRIGGER:-PT10M
DESCRIPTION:Class Reminder
ACTION:DISPLAY
END:VALARM
END:VEVENT
END:VCALENDAR