BEGIN:VCALENDAR
VERSION:2.0
CALSCALE:GREGORIAN
BEGIN:VEVENT
URL:https://www.learndesk.us/class/5568261594808320/lesson/9cfae425f77389d14b88b4706d768415?ref=outlook-calendar
SUMMARY:Welcome Download, Install and Setup
DTSTART;TZID=America/Los_Angeles:20260421T190000
DTEND;TZID=America/Los_Angeles:20260421T200000
LOCATION:https://www.learndesk.us/class/5568261594808320/lesson/9cfae425f77389d14b88b4706d768415?ref=outlook-calendar
DESCRIPTION: Before we start the clock, I'll give you an overview of the course and tell you a bit about me. Then let's make sure you have an Ableton.com account, have the software downloaded and installed, and your audio settings set so you can hear things.

https://www.learndesk.us/class/5568261594808320/lesson/9cfae425f77389d14b88b4706d768415?ref=outlook-calendar
STATUS:CONFIRMED
SEQUENCE:3
BEGIN:VALARM
TRIGGER:-PT10M
DESCRIPTION:Class Reminder
ACTION:DISPLAY
END:VALARM
END:VEVENT
END:VCALENDAR