BEGIN:VCALENDAR
VERSION:2.0
CALSCALE:GREGORIAN
BEGIN:VEVENT
URL:https://www.learndesk.us/class/5568261594808320/lesson/85d77037e32c2970fcd9eeeb61c94079?ref=outlook-calendar
SUMMARY:Welcome
DTSTART;TZID=America/Los_Angeles:20260421T190000
DTEND;TZID=America/Los_Angeles:20260421T200000
LOCATION:https://www.learndesk.us/class/5568261594808320/lesson/85d77037e32c2970fcd9eeeb61c94079?ref=outlook-calendar
DESCRIPTION: Welcome to the experience Ableton live mini-masterclass. We have one goal today and that is to create your first song in Ableton live in 90 minutes.
Before we start the clock let's make sure you have&nbsp;the following things:

1. A copy of Ableton live suite&nbsp;(either the&nbsp;paid version&nbsp;or the&nbsp;FREE trial&nbsp;will work).

This will only work with the suite edition because we will be using some of the virtual instruments that are in that top-tier edition.


2. A computer (mac or pc) and speakers or headphones.

If you are using a pc with windows with an audio interface, watch this video&nbsp;to help with your audio setup.
To get back to the default Ableton live demo song, watch this video.




https://www.learndesk.us/class/5568261594808320/lesson/85d77037e32c2970fcd9eeeb61c94079?ref=outlook-calendar
STATUS:CONFIRMED
SEQUENCE:3
BEGIN:VALARM
TRIGGER:-PT10M
DESCRIPTION:Class Reminder
ACTION:DISPLAY
END:VALARM
END:VEVENT
END:VCALENDAR