BEGIN:VCALENDAR
VERSION:2.0
CALSCALE:GREGORIAN
BEGIN:VEVENT
URL:https://www.learndesk.us/class/5568261594808320/lesson/516343ae36db24075c6ca51c5d952693?ref=outlook-calendar
SUMMARY:Module 2
DTSTART;TZID=America/Los_Angeles:20260421T190000
DTEND;TZID=America/Los_Angeles:20260421T200000
LOCATION:https://www.learndesk.us/class/5568261594808320/lesson/516343ae36db24075c6ca51c5d952693?ref=outlook-calendar
DESCRIPTION: 
Part 1:&nbsp;Chords
Part 2: Arrangement view
Part 3: Import audio

Approximate time: 40 min

https://www.learndesk.us/class/5568261594808320/lesson/516343ae36db24075c6ca51c5d952693?ref=outlook-calendar
STATUS:CONFIRMED
SEQUENCE:3
BEGIN:VALARM
TRIGGER:-PT10M
DESCRIPTION:Class Reminder
ACTION:DISPLAY
END:VALARM
END:VEVENT
END:VCALENDAR