BEGIN:VCALENDAR
VERSION:2.0
CALSCALE:GREGORIAN
BEGIN:VEVENT
URL:https://www.learndesk.us/class/5568261594808320/lesson/27140d453e239f7f463fefd8e2faa391?ref=outlook-calendar
SUMMARY:Module 3
DTSTART;TZID=America/Los_Angeles:20260421T190000
DTEND;TZID=America/Los_Angeles:20260421T200000
LOCATION:https://www.learndesk.us/class/5568261594808320/lesson/27140d453e239f7f463fefd8e2faa391?ref=outlook-calendar
DESCRIPTION: 
Part 1:&nbsp;Melody
Part 2: Mix
Part 3: Export share

Approximate time: 30 min

https://www.learndesk.us/class/5568261594808320/lesson/27140d453e239f7f463fefd8e2faa391?ref=outlook-calendar
STATUS:CONFIRMED
SEQUENCE:3
BEGIN:VALARM
TRIGGER:-PT10M
DESCRIPTION:Class Reminder
ACTION:DISPLAY
END:VALARM
END:VEVENT
END:VCALENDAR