BEGIN:VCALENDAR
VERSION:2.0
CALSCALE:GREGORIAN
BEGIN:VEVENT
URL:https://www.learndesk.us/class/5568261594808320/lesson/104e177392b2572752a353febfae5a6c?ref=outlook-calendar
SUMMARY:Module 1
DTSTART;TZID=America/Los_Angeles:20260421T190000
DTEND;TZID=America/Los_Angeles:20260421T200000
LOCATION:https://www.learndesk.us/class/5568261594808320/lesson/104e177392b2572752a353febfae5a6c?ref=outlook-calendar
DESCRIPTION: 
Part 1: Orientation
Part 2: Drums
Part 3: Bass

Approximate time: 30 min

https://www.learndesk.us/class/5568261594808320/lesson/104e177392b2572752a353febfae5a6c?ref=outlook-calendar
STATUS:CONFIRMED
SEQUENCE:3
BEGIN:VALARM
TRIGGER:-PT10M
DESCRIPTION:Class Reminder
ACTION:DISPLAY
END:VALARM
END:VEVENT
END:VCALENDAR