BEGIN:VCALENDAR
VERSION:2.0
CALSCALE:GREGORIAN
BEGIN:VEVENT
URL:https://www.learndesk.us/class/5568261594808320/lesson/0f3aac78b8e93583135d0636cc0f876c?ref=outlook-calendar
SUMMARY:So What Happens Next?
DTSTART;TZID=America/Los_Angeles:20260421T190000
DTEND;TZID=America/Los_Angeles:20260421T200000
LOCATION:https://www.learndesk.us/class/5568261594808320/lesson/0f3aac78b8e93583135d0636cc0f876c?ref=outlook-calendar
DESCRIPTION: Here are some things you can do after completing this mini-masterclass.

https://www.learndesk.us/class/5568261594808320/lesson/0f3aac78b8e93583135d0636cc0f876c?ref=outlook-calendar
STATUS:CONFIRMED
SEQUENCE:3
BEGIN:VALARM
TRIGGER:-PT10M
DESCRIPTION:Class Reminder
ACTION:DISPLAY
END:VALARM
END:VEVENT
END:VCALENDAR