BEGIN:VCALENDAR
VERSION:2.0
CALSCALE:GREGORIAN
BEGIN:VEVENT
URL:https://www.learndesk.us/class/5568261594808320/lesson/08f6dcb59277ea9158769e180113e176?ref=outlook-calendar
SUMMARY:What Happens Next?
DTSTART;TZID=America/Los_Angeles:20260421T190000
DTEND;TZID=America/Los_Angeles:20260421T200000
LOCATION:https://www.learndesk.us/class/5568261594808320/lesson/08f6dcb59277ea9158769e180113e176?ref=outlook-calendar
DESCRIPTION: Next steps after the mini-masterclass.

Watch the what happens next video.
Download the Ableton live set that I created during the mini-masterclass for you to use for practice and/or analysis.
Download the Ableton live set in which I created the percussion loops for you to use for practice and/or analysis.&nbsp;
Join my free learn music production community:

LEVELS website community
Discord&nbsp;


Follow levels on Instagram and YouTube&nbsp;

Thank you for supporting me and let me know (email) if you want to continue your music production journey.
-Futch&nbsp;

https://www.learndesk.us/class/5568261594808320/lesson/08f6dcb59277ea9158769e180113e176?ref=outlook-calendar
STATUS:CONFIRMED
SEQUENCE:3
BEGIN:VALARM
TRIGGER:-PT10M
DESCRIPTION:Class Reminder
ACTION:DISPLAY
END:VALARM
END:VEVENT
END:VCALENDAR