BEGIN:VCALENDAR
VERSION:2.0
CALSCALE:GREGORIAN
BEGIN:VEVENT
URL:https://www.learndesk.us/class/5568261594808320/experience-ableton-live-mini-masterclass?ref=outlook-calendar
SUMMARY:Experience Ableton Live Mini-Masterclass
DTSTART;TZID=America/Los_Angeles:20260421T190000
DTEND;TZID=America/Los_Angeles:20260421T200000
LOCATION:https://www.learndesk.us/class/5568261594808320/experience-ableton-live-mini-masterclass?ref=outlook-calendar
DESCRIPTION: What will you learn in this course?
No experience is necessary. This mini-masterclass will show you how to:

Download and install the Ableton live 90-day free trial.
Create a simple drum beat and bassline.
Create a simple chord progression and song arrangement.
Create a simple melody and vocal chop.
Mix, export, and send your song to your friends.
After this class, you will be able to write a funny song to make your friends laugh. This is not a "learn" Ableton live course, this is a "do" Ableton live class that will give your quick results without needing to invest too much time or money.


https://www.learndesk.us/class/5568261594808320/experience-ableton-live-mini-masterclass?ref=outlook-calendar
STATUS:CONFIRMED
SEQUENCE:3
BEGIN:VALARM
TRIGGER:-PT10M
DESCRIPTION:Class Reminder
ACTION:DISPLAY
END:VALARM
END:VEVENT
END:VCALENDAR