BEGIN:VCALENDAR
VERSION:2.0
CALSCALE:GREGORIAN
BEGIN:VEVENT
URL:https://www.learndesk.us/class/5545007874310144/lesson/f0d859faed4cd4be7b48553083999c2b?ref=outlook-calendar
SUMMARY:The Three-Step Method - PTR 1
DTSTART;TZID=America/Los_Angeles:20260422T190000
DTEND;TZID=America/Los_Angeles:20260422T200000
LOCATION:https://www.learndesk.us/class/5545007874310144/lesson/f0d859faed4cd4be7b48553083999c2b?ref=outlook-calendar
DESCRIPTION: https://www.learndesk.us/class/5545007874310144/lesson/f0d859faed4cd4be7b48553083999c2b?ref=outlook-calendar
STATUS:CONFIRMED
SEQUENCE:3
BEGIN:VALARM
TRIGGER:-PT10M
DESCRIPTION:Class Reminder
ACTION:DISPLAY
END:VALARM
END:VEVENT
END:VCALENDAR