BEGIN:VCALENDAR
VERSION:2.0
CALSCALE:GREGORIAN
BEGIN:VEVENT
URL:https://www.learndesk.us/class/5545007874310144/lesson/cd4fd7e00a85d7e29ef80f0eb4b2a8b7?ref=outlook-calendar
SUMMARY:About This Course
DTSTART;TZID=America/Los_Angeles:20260424T190000
DTEND;TZID=America/Los_Angeles:20260424T200000
LOCATION:https://www.learndesk.us/class/5545007874310144/lesson/cd4fd7e00a85d7e29ef80f0eb4b2a8b7?ref=outlook-calendar
DESCRIPTION: https://www.learndesk.us/class/5545007874310144/lesson/cd4fd7e00a85d7e29ef80f0eb4b2a8b7?ref=outlook-calendar
STATUS:CONFIRMED
SEQUENCE:3
BEGIN:VALARM
TRIGGER:-PT10M
DESCRIPTION:Class Reminder
ACTION:DISPLAY
END:VALARM
END:VEVENT
END:VCALENDAR