BEGIN:VCALENDAR
VERSION:2.0
CALSCALE:GREGORIAN
BEGIN:VEVENT
URL:https://www.learndesk.us/class/5545007874310144/lesson/8837ae3581bd4ef5288679f2a9a6febf?ref=outlook-calendar
SUMMARY:Mentor Exercise Problem 4
DTSTART;TZID=America/Los_Angeles:20260422T190000
DTEND;TZID=America/Los_Angeles:20260422T200000
LOCATION:https://www.learndesk.us/class/5545007874310144/lesson/8837ae3581bd4ef5288679f2a9a6febf?ref=outlook-calendar
DESCRIPTION: https://www.learndesk.us/class/5545007874310144/lesson/8837ae3581bd4ef5288679f2a9a6febf?ref=outlook-calendar
STATUS:CONFIRMED
SEQUENCE:3
BEGIN:VALARM
TRIGGER:-PT10M
DESCRIPTION:Class Reminder
ACTION:DISPLAY
END:VALARM
END:VEVENT
END:VCALENDAR