BEGIN:VCALENDAR
VERSION:2.0
CALSCALE:GREGORIAN
BEGIN:VEVENT
URL:https://www.learndesk.us/class/5545007874310144/lesson/22b962a32a75a1c221e2fa3b15b315f5?ref=outlook-calendar
SUMMARY:Misplaced Modifiers Problem 3
DTSTART;TZID=America/Los_Angeles:20260422T190000
DTEND;TZID=America/Los_Angeles:20260422T200000
LOCATION:https://www.learndesk.us/class/5545007874310144/lesson/22b962a32a75a1c221e2fa3b15b315f5?ref=outlook-calendar
DESCRIPTION: https://www.learndesk.us/class/5545007874310144/lesson/22b962a32a75a1c221e2fa3b15b315f5?ref=outlook-calendar
STATUS:CONFIRMED
SEQUENCE:3
BEGIN:VALARM
TRIGGER:-PT10M
DESCRIPTION:Class Reminder
ACTION:DISPLAY
END:VALARM
END:VEVENT
END:VCALENDAR