BEGIN:VCALENDAR
VERSION:2.0
CALSCALE:GREGORIAN
BEGIN:VEVENT
URL:https://www.learndesk.us/class/5545007874310144/act-verbal-prep-course?ref=outlook-calendar
SUMMARY:ACT Verbal Prep Course
DTSTART;TZID=America/Los_Angeles:20260422T190000
DTEND;TZID=America/Los_Angeles:20260422T200000
LOCATION:https://www.learndesk.us/class/5545007874310144/act-verbal-prep-course?ref=outlook-calendar
DESCRIPTION: 
Every year, students pay $1,000 and more to test prep companies to prepare for the verbal section of the ACT. Now you can get the same preparation in an online course. ACT Verbal Prep Course provides the equivalent of a 2-month, 50-hour course.
Although the ACT verbal section is steep, it is very learnable. ACT Verbal Prep Course presents a thorough analysis of ACT verbal and introduces numerous analytic techniques that will help you immensely, not only on the ACT but in graduate school as well. 
What is included as part of the course?

Videos: Hundreds of videos explaining the text, examples, and exercises in step-by-step detail.
Verbal: Develop the ability to spot places from which questions are likely to be drawn as you read a passage (pivotal words, counter-premises, etc.).  Also, learn the 400 essential ACT words. 
Writing: Comprehensive analysis of the writing task, including writing techniques, punctuation, grammar, rhetoric, and style. 
Mentor exercises: These exercises...

https://www.learndesk.us/class/5545007874310144/act-verbal-prep-course?ref=outlook-calendar
STATUS:CONFIRMED
SEQUENCE:3
BEGIN:VALARM
TRIGGER:-PT10M
DESCRIPTION:Class Reminder
ACTION:DISPLAY
END:VALARM
END:VEVENT
END:VCALENDAR