BEGIN:VCALENDAR
VERSION:2.0
CALSCALE:GREGORIAN
BEGIN:VEVENT
URL:https://www.learndesk.us/class/5541711906340864/lesson/fa8115a0cbe78e9b9c4a7c4bb5ed7120?ref=outlook-calendar
SUMMARY:IconButton
DTSTART;TZID=America/Los_Angeles:20260425T190000
DTEND;TZID=America/Los_Angeles:20260425T200000
LOCATION:https://www.learndesk.us/class/5541711906340864/lesson/fa8115a0cbe78e9b9c4a7c4bb5ed7120?ref=outlook-calendar
DESCRIPTION: An icon button is a picture printed on a Material widget that reacts to touches by filling with color (ink).

https://www.learndesk.us/class/5541711906340864/lesson/fa8115a0cbe78e9b9c4a7c4bb5ed7120?ref=outlook-calendar
STATUS:CONFIRMED
SEQUENCE:3
BEGIN:VALARM
TRIGGER:-PT10M
DESCRIPTION:Class Reminder
ACTION:DISPLAY
END:VALARM
END:VEVENT
END:VCALENDAR