BEGIN:VCALENDAR
VERSION:2.0
CALSCALE:GREGORIAN
BEGIN:VEVENT
URL:https://www.learndesk.us/class/5541711906340864/lesson/f966745d07cf1fd0ed815a33825bc06f?ref=outlook-calendar
SUMMARY:Navigate to a new screen and back
DTSTART;TZID=America/Los_Angeles:20260425T190000
DTEND;TZID=America/Los_Angeles:20260425T200000
LOCATION:https://www.learndesk.us/class/5541711906340864/lesson/f966745d07cf1fd0ed815a33825bc06f?ref=outlook-calendar
DESCRIPTION: Most apps contain several screens for displaying different types of information. For example, an app might have a screen that displays products. Users can then tap the image of a product to get more detailed information on a new screen.

https://www.learndesk.us/class/5541711906340864/lesson/f966745d07cf1fd0ed815a33825bc06f?ref=outlook-calendar
STATUS:CONFIRMED
SEQUENCE:3
BEGIN:VALARM
TRIGGER:-PT10M
DESCRIPTION:Class Reminder
ACTION:DISPLAY
END:VALARM
END:VEVENT
END:VCALENDAR