BEGIN:VCALENDAR
VERSION:2.0
CALSCALE:GREGORIAN
BEGIN:VEVENT
URL:https://www.learndesk.us/class/5541711906340864/lesson/f84aaeb30b58fb8387468eafee0eda7c?ref=outlook-calendar
SUMMARY:Calculator Part 2 - Implementing The Tabs
DTSTART;TZID=America/Los_Angeles:20260425T190000
DTEND;TZID=America/Los_Angeles:20260425T200000
LOCATION:https://www.learndesk.us/class/5541711906340864/lesson/f84aaeb30b58fb8387468eafee0eda7c?ref=outlook-calendar
DESCRIPTION: Let's implement each tab and add the following functionality:
- Addition
- Subtraction
- Multiplication
- Division

https://www.learndesk.us/class/5541711906340864/lesson/f84aaeb30b58fb8387468eafee0eda7c?ref=outlook-calendar
STATUS:CONFIRMED
SEQUENCE:3
BEGIN:VALARM
TRIGGER:-PT10M
DESCRIPTION:Class Reminder
ACTION:DISPLAY
END:VALARM
END:VEVENT
END:VCALENDAR