BEGIN:VCALENDAR
VERSION:2.0
CALSCALE:GREGORIAN
BEGIN:VEVENT
URL:https://www.learndesk.us/class/5541711906340864/lesson/f215c79ad4210d5ad541dfae426e33a6?ref=outlook-calendar
SUMMARY:CupertinoSlider
DTSTART;TZID=America/Los_Angeles:20260425T190000
DTEND;TZID=America/Los_Angeles:20260425T200000
LOCATION:https://www.learndesk.us/class/5541711906340864/lesson/f215c79ad4210d5ad541dfae426e33a6?ref=outlook-calendar
DESCRIPTION: Used to select from a range of values.

https://www.learndesk.us/class/5541711906340864/lesson/f215c79ad4210d5ad541dfae426e33a6?ref=outlook-calendar
STATUS:CONFIRMED
SEQUENCE:3
BEGIN:VALARM
TRIGGER:-PT10M
DESCRIPTION:Class Reminder
ACTION:DISPLAY
END:VALARM
END:VEVENT
END:VCALENDAR