BEGIN:VCALENDAR
VERSION:2.0
CALSCALE:GREGORIAN
BEGIN:VEVENT
URL:https://www.learndesk.us/class/5541711906340864/lesson/ef6b2baeea7eeae2fa5825ff538c1fb3?ref=outlook-calendar
SUMMARY:Call Android Kotlin Code
DTSTART;TZID=America/Los_Angeles:20260425T190000
DTEND;TZID=America/Los_Angeles:20260425T200000
LOCATION:https://www.learndesk.us/class/5541711906340864/lesson/ef6b2baeea7eeae2fa5825ff538c1fb3?ref=outlook-calendar
DESCRIPTION: Learn how to call Kotlin code from Dart.

https://www.learndesk.us/class/5541711906340864/lesson/ef6b2baeea7eeae2fa5825ff538c1fb3?ref=outlook-calendar
STATUS:CONFIRMED
SEQUENCE:3
BEGIN:VALARM
TRIGGER:-PT10M
DESCRIPTION:Class Reminder
ACTION:DISPLAY
END:VALARM
END:VEVENT
END:VCALENDAR