BEGIN:VCALENDAR
VERSION:2.0
CALSCALE:GREGORIAN
BEGIN:VEVENT
URL:https://www.learndesk.us/class/5541711906340864/lesson/ef6863b26e5a919606132f5b27389055?ref=outlook-calendar
SUMMARY:Navigation Components
DTSTART;TZID=America/Los_Angeles:20260425T190000
DTEND;TZID=America/Los_Angeles:20260425T200000
LOCATION:https://www.learndesk.us/class/5541711906340864/lesson/ef6863b26e5a919606132f5b27389055?ref=outlook-calendar
DESCRIPTION: https://www.learndesk.us/class/5541711906340864/lesson/ef6863b26e5a919606132f5b27389055?ref=outlook-calendar
STATUS:CONFIRMED
SEQUENCE:3
BEGIN:VALARM
TRIGGER:-PT10M
DESCRIPTION:Class Reminder
ACTION:DISPLAY
END:VALARM
END:VEVENT
END:VCALENDAR