BEGIN:VCALENDAR
VERSION:2.0
CALSCALE:GREGORIAN
BEGIN:VEVENT
URL:https://www.learndesk.us/class/5541711906340864/lesson/eebb552c1eb634c3bdabe2c62523de3e?ref=outlook-calendar
SUMMARY:Sizing Widgets
DTSTART;TZID=America/Los_Angeles:20260425T190000
DTEND;TZID=America/Los_Angeles:20260425T200000
LOCATION:https://www.learndesk.us/class/5541711906340864/lesson/eebb552c1eb634c3bdabe2c62523de3e?ref=outlook-calendar
DESCRIPTION: When a layout is too large to fit a device, a yellow and black striped pattern appears along the affected edge.

https://www.learndesk.us/class/5541711906340864/lesson/eebb552c1eb634c3bdabe2c62523de3e?ref=outlook-calendar
STATUS:CONFIRMED
SEQUENCE:3
BEGIN:VALARM
TRIGGER:-PT10M
DESCRIPTION:Class Reminder
ACTION:DISPLAY
END:VALARM
END:VEVENT
END:VCALENDAR