BEGIN:VCALENDAR
VERSION:2.0
CALSCALE:GREGORIAN
BEGIN:VEVENT
URL:https://www.learndesk.us/class/5541711906340864/lesson/df056622743991f047d4eb74d89ad3ec?ref=outlook-calendar
SUMMARY:Fetch data from the internet
DTSTART;TZID=America/Los_Angeles:20260425T190000
DTEND;TZID=America/Los_Angeles:20260425T200000
LOCATION:https://www.learndesk.us/class/5541711906340864/lesson/df056622743991f047d4eb74d89ad3ec?ref=outlook-calendar
DESCRIPTION: Fetching data from the internet is necessary for most apps. Luckily, Dart and Flutter provide tools for this type of work.

https://www.learndesk.us/class/5541711906340864/lesson/df056622743991f047d4eb74d89ad3ec?ref=outlook-calendar
STATUS:CONFIRMED
SEQUENCE:3
BEGIN:VALARM
TRIGGER:-PT10M
DESCRIPTION:Class Reminder
ACTION:DISPLAY
END:VALARM
END:VEVENT
END:VCALENDAR