BEGIN:VCALENDAR
VERSION:2.0
CALSCALE:GREGORIAN
BEGIN:VEVENT
URL:https://www.learndesk.us/class/5541711906340864/lesson/d44a8fd039caee320a59e6d3fffe4b63?ref=outlook-calendar
SUMMARY:Center
DTSTART;TZID=America/Los_Angeles:20260425T190000
DTEND;TZID=America/Los_Angeles:20260425T200000
LOCATION:https://www.learndesk.us/class/5541711906340864/lesson/d44a8fd039caee320a59e6d3fffe4b63?ref=outlook-calendar
DESCRIPTION: A widget that centers its child within itself.

https://www.learndesk.us/class/5541711906340864/lesson/d44a8fd039caee320a59e6d3fffe4b63?ref=outlook-calendar
STATUS:CONFIRMED
SEQUENCE:3
BEGIN:VALARM
TRIGGER:-PT10M
DESCRIPTION:Class Reminder
ACTION:DISPLAY
END:VALARM
END:VEVENT
END:VCALENDAR