BEGIN:VCALENDAR
VERSION:2.0
CALSCALE:GREGORIAN
BEGIN:VEVENT
URL:https://www.learndesk.us/class/5541711906340864/lesson/d39fb461139a5ea22e6a4fa177f7e799?ref=outlook-calendar
SUMMARY:CupertinoPicker
DTSTART;TZID=America/Los_Angeles:20260425T190000
DTEND;TZID=America/Los_Angeles:20260425T200000
LOCATION:https://www.learndesk.us/class/5541711906340864/lesson/d39fb461139a5ea22e6a4fa177f7e799?ref=outlook-calendar
DESCRIPTION: An iOS-style picker control. Used to select an item in a short list.

https://www.learndesk.us/class/5541711906340864/lesson/d39fb461139a5ea22e6a4fa177f7e799?ref=outlook-calendar
STATUS:CONFIRMED
SEQUENCE:3
BEGIN:VALARM
TRIGGER:-PT10M
DESCRIPTION:Class Reminder
ACTION:DISPLAY
END:VALARM
END:VEVENT
END:VCALENDAR