BEGIN:VCALENDAR
VERSION:2.0
CALSCALE:GREGORIAN
BEGIN:VEVENT
URL:https://www.learndesk.us/class/5541711906340864/lesson/cd73b2e9dabed057bcc33c4b1a76214a?ref=outlook-calendar
SUMMARY:Add, Update and Delete Widgets
DTSTART;TZID=America/Los_Angeles:20260425T190000
DTEND;TZID=America/Los_Angeles:20260425T200000
LOCATION:https://www.learndesk.us/class/5541711906340864/lesson/cd73b2e9dabed057bcc33c4b1a76214a?ref=outlook-calendar
DESCRIPTION: Learn how to modify existing widgets and elements with new content.

https://www.learndesk.us/class/5541711906340864/lesson/cd73b2e9dabed057bcc33c4b1a76214a?ref=outlook-calendar
STATUS:CONFIRMED
SEQUENCE:3
BEGIN:VALARM
TRIGGER:-PT10M
DESCRIPTION:Class Reminder
ACTION:DISPLAY
END:VALARM
END:VEVENT
END:VCALENDAR