BEGIN:VCALENDAR
VERSION:2.0
CALSCALE:GREGORIAN
BEGIN:VEVENT
URL:https://www.learndesk.us/class/5541711906340864/lesson/ca38073e0fb999d9c0cb528c19a135fa?ref=outlook-calendar
SUMMARY:Stepper and Step
DTSTART;TZID=America/Los_Angeles:20260425T190000
DTEND;TZID=America/Los_Angeles:20260425T200000
LOCATION:https://www.learndesk.us/class/5541711906340864/lesson/ca38073e0fb999d9c0cb528c19a135fa?ref=outlook-calendar
DESCRIPTION: A Material Design stepper widget that displays progress through a sequence of steps.

https://www.learndesk.us/class/5541711906340864/lesson/ca38073e0fb999d9c0cb528c19a135fa?ref=outlook-calendar
STATUS:CONFIRMED
SEQUENCE:3
BEGIN:VALARM
TRIGGER:-PT10M
DESCRIPTION:Class Reminder
ACTION:DISPLAY
END:VALARM
END:VEVENT
END:VCALENDAR