BEGIN:VCALENDAR
VERSION:2.0
CALSCALE:GREGORIAN
BEGIN:VEVENT
URL:https://www.learndesk.us/class/5541711906340864/lesson/c7e41131c48493b94fceb715a9d58ee3?ref=outlook-calendar
SUMMARY:Container
DTSTART;TZID=America/Los_Angeles:20260425T190000
DTEND;TZID=America/Los_Angeles:20260425T200000
LOCATION:https://www.learndesk.us/class/5541711906340864/lesson/c7e41131c48493b94fceb715a9d58ee3?ref=outlook-calendar
DESCRIPTION: A convenience widget that combines common painting, positioning, and sizing widgets.

https://www.learndesk.us/class/5541711906340864/lesson/c7e41131c48493b94fceb715a9d58ee3?ref=outlook-calendar
STATUS:CONFIRMED
SEQUENCE:3
BEGIN:VALARM
TRIGGER:-PT10M
DESCRIPTION:Class Reminder
ACTION:DISPLAY
END:VALARM
END:VEVENT
END:VCALENDAR