BEGIN:VCALENDAR
VERSION:2.0
CALSCALE:GREGORIAN
BEGIN:VEVENT
URL:https://www.learndesk.us/class/5541711906340864/lesson/c5f584f4ae71005544b79647b9bbd15d?ref=outlook-calendar
SUMMARY:Return data from a screen
DTSTART;TZID=America/Los_Angeles:20260425T190000
DTEND;TZID=America/Los_Angeles:20260425T200000
LOCATION:https://www.learndesk.us/class/5541711906340864/lesson/c5f584f4ae71005544b79647b9bbd15d?ref=outlook-calendar
DESCRIPTION: In some cases, we might want to return data from a new screen. For example, say we push a new screen that presents two options to a user. When the user taps on an option, we’ll want to inform our first screen of the user’s selection so it can act on that information.

https://www.learndesk.us/class/5541711906340864/lesson/c5f584f4ae71005544b79647b9bbd15d?ref=outlook-calendar
STATUS:CONFIRMED
SEQUENCE:3
BEGIN:VALARM
TRIGGER:-PT10M
DESCRIPTION:Class Reminder
ACTION:DISPLAY
END:VALARM
END:VEVENT
END:VCALENDAR