BEGIN:VCALENDAR
VERSION:2.0
CALSCALE:GREGORIAN
BEGIN:VEVENT
URL:https://www.learndesk.us/class/5541711906340864/lesson/c50afd59ee0234e2183b1dfb7a7609e7?ref=outlook-calendar
SUMMARY:Long Press
DTSTART;TZID=America/Los_Angeles:20260425T190000
DTEND;TZID=America/Los_Angeles:20260425T200000
LOCATION:https://www.learndesk.us/class/5541711906340864/lesson/c50afd59ee0234e2183b1dfb7a7609e7?ref=outlook-calendar
DESCRIPTION: Long press
- onLongPress A pointer has remained in contact with the screen at the same location for a long period of time.

https://www.learndesk.us/class/5541711906340864/lesson/c50afd59ee0234e2183b1dfb7a7609e7?ref=outlook-calendar
STATUS:CONFIRMED
SEQUENCE:3
BEGIN:VALARM
TRIGGER:-PT10M
DESCRIPTION:Class Reminder
ACTION:DISPLAY
END:VALARM
END:VEVENT
END:VCALENDAR