BEGIN:VCALENDAR
VERSION:2.0
CALSCALE:GREGORIAN
BEGIN:VEVENT
URL:https://www.learndesk.us/class/5541711906340864/lesson/b52c7c58f5b009c3363f383c15e6afd3?ref=outlook-calendar
SUMMARY:ExpansionPanelList and ExpansionPanel
DTSTART;TZID=America/Los_Angeles:20260425T190000
DTEND;TZID=America/Los_Angeles:20260425T200000
LOCATION:https://www.learndesk.us/class/5541711906340864/lesson/b52c7c58f5b009c3363f383c15e6afd3?ref=outlook-calendar
DESCRIPTION: Expansion panels contain creation flows and allow lightweight editing of an element. The ExpansionPanel widget implements this component.

https://www.learndesk.us/class/5541711906340864/lesson/b52c7c58f5b009c3363f383c15e6afd3?ref=outlook-calendar
STATUS:CONFIRMED
SEQUENCE:3
BEGIN:VALARM
TRIGGER:-PT10M
DESCRIPTION:Class Reminder
ACTION:DISPLAY
END:VALARM
END:VEVENT
END:VCALENDAR