BEGIN:VCALENDAR
VERSION:2.0
CALSCALE:GREGORIAN
BEGIN:VEVENT
URL:https://www.learndesk.us/class/5541711906340864/lesson/af1a04c714fe274e62523db64d519eb9?ref=outlook-calendar
SUMMARY:Horizontal Drag
DTSTART;TZID=America/Los_Angeles:20260425T190000
DTEND;TZID=America/Los_Angeles:20260425T200000
LOCATION:https://www.learndesk.us/class/5541711906340864/lesson/af1a04c714fe274e62523db64d519eb9?ref=outlook-calendar
DESCRIPTION: Horizontal drag

onHorizontalDragStart A pointer has contacted the screen and might begin to move horizontally.

onHorizontalDragUpdate A pointer that is in contact with the screen and moving horizontally has moved in the horizontal direction.

onHorizontalDragEnd A pointer that was previously in contact with the screen and moving horizontally is no longer in contact with the screen and was moving at a specific velocity when it stopped contacting the screen.

https://www.learndesk.us/class/5541711906340864/lesson/af1a04c714fe274e62523db64d519eb9?ref=outlook-calendar
STATUS:CONFIRMED
SEQUENCE:3
BEGIN:VALARM
TRIGGER:-PT10M
DESCRIPTION:Class Reminder
ACTION:DISPLAY
END:VALARM
END:VEVENT
END:VCALENDAR