BEGIN:VCALENDAR
VERSION:2.0
CALSCALE:GREGORIAN
BEGIN:VEVENT
URL:https://www.learndesk.us/class/5541711906340864/lesson/aee1471b0ed981f1c24a731bcbf2af86?ref=outlook-calendar
SUMMARY:Calculator Part 3 - Tab Persistence
DTSTART;TZID=America/Los_Angeles:20260425T190000
DTEND;TZID=America/Los_Angeles:20260425T200000
LOCATION:https://www.learndesk.us/class/5541711906340864/lesson/aee1471b0ed981f1c24a731bcbf2af86?ref=outlook-calendar
DESCRIPTION: Let's add tab persistence so the tabs don't reload every time the user changes a tab.

https://www.learndesk.us/class/5541711906340864/lesson/aee1471b0ed981f1c24a731bcbf2af86?ref=outlook-calendar
STATUS:CONFIRMED
SEQUENCE:3
BEGIN:VALARM
TRIGGER:-PT10M
DESCRIPTION:Class Reminder
ACTION:DISPLAY
END:VALARM
END:VEVENT
END:VCALENDAR