BEGIN:VCALENDAR
VERSION:2.0
CALSCALE:GREGORIAN
BEGIN:VEVENT
URL:https://www.learndesk.us/class/5541711906340864/lesson/ac7523ebe58b4b2daa7111fff6e43e1a?ref=outlook-calendar
SUMMARY:CupertinoButton
DTSTART;TZID=America/Los_Angeles:20260425T190000
DTEND;TZID=America/Los_Angeles:20260425T200000
LOCATION:https://www.learndesk.us/class/5541711906340864/lesson/ac7523ebe58b4b2daa7111fff6e43e1a?ref=outlook-calendar
DESCRIPTION: An iOS-style button.

https://www.learndesk.us/class/5541711906340864/lesson/ac7523ebe58b4b2daa7111fff6e43e1a?ref=outlook-calendar
STATUS:CONFIRMED
SEQUENCE:3
BEGIN:VALARM
TRIGGER:-PT10M
DESCRIPTION:Class Reminder
ACTION:DISPLAY
END:VALARM
END:VEVENT
END:VCALENDAR