BEGIN:VCALENDAR
VERSION:2.0
CALSCALE:GREGORIAN
BEGIN:VEVENT
URL:https://www.learndesk.us/class/5541711906340864/lesson/9c52699e12ef0a6bd84cfd79b1b18645?ref=outlook-calendar
SUMMARY:BottomNavigationBar
DTSTART;TZID=America/Los_Angeles:20260425T190000
DTEND;TZID=America/Los_Angeles:20260425T200000
LOCATION:https://www.learndesk.us/class/5541711906340864/lesson/9c52699e12ef0a6bd84cfd79b1b18645?ref=outlook-calendar
DESCRIPTION: Bottom navigation bars make it easy to explore and switch between top-level views in a single tap. The BottomNavigationBar widget implements this component.

https://www.learndesk.us/class/5541711906340864/lesson/9c52699e12ef0a6bd84cfd79b1b18645?ref=outlook-calendar
STATUS:CONFIRMED
SEQUENCE:3
BEGIN:VALARM
TRIGGER:-PT10M
DESCRIPTION:Class Reminder
ACTION:DISPLAY
END:VALARM
END:VEVENT
END:VCALENDAR