BEGIN:VCALENDAR
VERSION:2.0
CALSCALE:GREGORIAN
BEGIN:VEVENT
URL:https://www.learndesk.us/class/5541711906340864/lesson/9b365d09bdbe55866a5a0cd8729430c8?ref=outlook-calendar
SUMMARY:Send Parameters To iOS Swift Cod
DTSTART;TZID=America/Los_Angeles:20260425T190000
DTEND;TZID=America/Los_Angeles:20260425T200000
LOCATION:https://www.learndesk.us/class/5541711906340864/lesson/9b365d09bdbe55866a5a0cd8729430c8?ref=outlook-calendar
DESCRIPTION: Learn how to send values to Swift files.

https://www.learndesk.us/class/5541711906340864/lesson/9b365d09bdbe55866a5a0cd8729430c8?ref=outlook-calendar
STATUS:CONFIRMED
SEQUENCE:3
BEGIN:VALARM
TRIGGER:-PT10M
DESCRIPTION:Class Reminder
ACTION:DISPLAY
END:VALARM
END:VEVENT
END:VCALENDAR